BEGIN:VCALENDAR
VERSION:2.0
PRODID:-//CVJM Schneverdingen - ECPv6.15.13//NONSGML v1.0//EN
CALSCALE:GREGORIAN
METHOD:PUBLISH
X-WR-CALNAME:CVJM Schneverdingen
X-ORIGINAL-URL:https://cvjm-schneverdingen.de
X-WR-CALDESC:Veranstaltungen für CVJM Schneverdingen
REFRESH-INTERVAL;VALUE=DURATION:PT1H
X-Robots-Tag:noindex
X-PUBLISHED-TTL:PT1H
BEGIN:VTIMEZONE
TZID:Europe/Berlin
BEGIN:DAYLIGHT
TZOFFSETFROM:+0100
TZOFFSETTO:+0200
TZNAME:CEST
DTSTART:20250330T010000
END:DAYLIGHT
BEGIN:STANDARD
TZOFFSETFROM:+0200
TZOFFSETTO:+0100
TZNAME:CET
DTSTART:20251026T010000
END:STANDARD
BEGIN:DAYLIGHT
TZOFFSETFROM:+0100
TZOFFSETTO:+0200
TZNAME:CEST
DTSTART:20260329T010000
END:DAYLIGHT
BEGIN:STANDARD
TZOFFSETFROM:+0200
TZOFFSETTO:+0100
TZNAME:CET
DTSTART:20261025T010000
END:STANDARD
BEGIN:DAYLIGHT
TZOFFSETFROM:+0100
TZOFFSETTO:+0200
TZNAME:CEST
DTSTART:20270328T010000
END:DAYLIGHT
BEGIN:STANDARD
TZOFFSETFROM:+0200
TZOFFSETTO:+0100
TZNAME:CET
DTSTART:20271031T010000
END:STANDARD
END:VTIMEZONE
BEGIN:VEVENT
DTSTART;VALUE=DATE:20260701
DTEND;VALUE=DATE:20260716
DTSTAMP:20260421T194724
CREATED:20260104T150001Z
LAST-MODIFIED:20260104T150451Z
UID:3171-1782864000-1784159999@cvjm-schneverdingen.de
SUMMARY:Zeltlager Offendorf
DESCRIPTION:
URL:https://cvjm-schneverdingen.de/event/zeltlager-offendorf/
LOCATION:Zeltlager Offendorf\, Offendorf\, Schleswig-Holstein\, 23626\, Deutschland
CATEGORIES:Zeltlager
ATTACH;FMTTYPE=image/png:https://cvjm-schneverdingen.de/wp-content/uploads/2023/06/5.png
ORGANIZER;CN="CVJM Schneverdingen e. V.":MAILTO:lagerleitung@cvjm-schneverdingen.de
END:VEVENT
END:VCALENDAR