BEGIN:VCALENDAR
VERSION:2.0
PRODID:-//CVJM Schneverdingen - ECPv6.15.13//NONSGML v1.0//EN
CALSCALE:GREGORIAN
METHOD:PUBLISH
X-WR-CALNAME:CVJM Schneverdingen
X-ORIGINAL-URL:https://cvjm-schneverdingen.de
X-WR-CALDESC:Veranstaltungen für CVJM Schneverdingen
REFRESH-INTERVAL;VALUE=DURATION:PT1H
X-Robots-Tag:noindex
X-PUBLISHED-TTL:PT1H
BEGIN:VTIMEZONE
TZID:Europe/Berlin
BEGIN:DAYLIGHT
TZOFFSETFROM:+0100
TZOFFSETTO:+0200
TZNAME:CEST
DTSTART:20250330T010000
END:DAYLIGHT
BEGIN:STANDARD
TZOFFSETFROM:+0200
TZOFFSETTO:+0100
TZNAME:CET
DTSTART:20251026T010000
END:STANDARD
BEGIN:DAYLIGHT
TZOFFSETFROM:+0100
TZOFFSETTO:+0200
TZNAME:CEST
DTSTART:20260329T010000
END:DAYLIGHT
BEGIN:STANDARD
TZOFFSETFROM:+0200
TZOFFSETTO:+0100
TZNAME:CET
DTSTART:20261025T010000
END:STANDARD
BEGIN:DAYLIGHT
TZOFFSETFROM:+0100
TZOFFSETTO:+0200
TZNAME:CEST
DTSTART:20270328T010000
END:DAYLIGHT
BEGIN:STANDARD
TZOFFSETFROM:+0200
TZOFFSETTO:+0100
TZNAME:CET
DTSTART:20271031T010000
END:STANDARD
END:VTIMEZONE
BEGIN:VEVENT
DTSTART;TZID=Europe/Berlin:20260125T110000
DTEND;TZID=Europe/Berlin:20260125T110000
DTSTAMP:20260421T182538
CREATED:20260104T150759Z
LAST-MODIFIED:20260125T074738Z
UID:3176-1769338800-1769338800@cvjm-schneverdingen.de
SUMMARY:Anmeldestart Zeltlager Offendorf
DESCRIPTION:
URL:https://cvjm-schneverdingen.de/event/anmeldestart-zeltlager-offendorf/
LOCATION:Zeltlager Offendorf\, Offendorf\, Schleswig-Holstein\, 23626\, Deutschland
CATEGORIES:Zeltlager
ORGANIZER;CN="CVJM Schneverdingen e. V.":MAILTO:lagerleitung@cvjm-schneverdingen.de
END:VEVENT
END:VCALENDAR